View In:
ArcGIS JavaScript
ArcGIS Online Map Viewer
ArcGIS Earth
Service Description: Compactación_10cm
Name: Compactación_10cm
Description:
Single Fused Map Cache: false
Extent:
XMin: 594747.5778931926
YMin: 1196587.8723491558
XMax: 595299.827485629
YMax: 1196829.2401780179
Spatial Reference: 21818
(21818)
Initial Extent:
XMin: 594747.5778931926
YMin: 1196587.8723491558
XMax: 595299.827485629
YMax: 1196829.2401780179
Spatial Reference: 21818
(21818)
Full Extent:
XMin: 594747.5778931926
YMin: 1196587.8723491558
XMax: 595299.827485629
YMax: 1196829.2401780179
Spatial Reference: 21818
(21818)
Pixel Size X: 0.9654713154481838
Pixel Size Y: 0.9654713154481724
Band Count: 1
Pixel Type: F32
RasterFunction Infos: {"rasterFunctionInfos": [{
"help": "",
"name": "None",
"description": ""
}]}
Mensuration Capabilities: Basic
Inspection Capabilities:
Has Histograms: true
Has Colormap: false
Has Multi Dimensions : false
Rendering Rule:
Min Scale: 0
Max Scale: 0
Copyright Text:
Service Data Type: esriImageServiceDataTypeGeneric
Min Values: 318.84375
Max Values: 1372.547119140625
Mean Values: 771.74199723007371
Standard Deviation Values: 262.18170971635493
Object ID Field:
Fields:
None
Default Mosaic Method: Center
Allowed Mosaic Methods:
SortField:
SortValue: N/A
Mosaic Operator: First
Default Compression Quality: 75
Default Resampling Method: Bilinear
Max Record Count: null
Max Image Height: 4100
Max Image Width: 15000
Max Download Image Count: null
Max Mosaic Image Count: null
Allow Raster Function: true
Allow Copy: true
Allow Analysis: true
Allow Compute TiePoints: false
Supports Statistics: false
Supports Advanced Queries: false
Use StandardizedQueries: false
Raster Type Infos:
Name: Raster Dataset
Description: Supports all ArcGIS Raster Datasets
Help:
Has Raster Attribute Table: false
Edit Fields Info: N/A
Ownership Based AccessControl For Rasters: N/A
Child Resources:
Info
Histograms
Statistics
Key Properties
Legend
Raster Function Infos
Supported Operations:
Export Image
Identify
Measure
Compute Histograms
Compute Statistics Histograms
Get Samples
Compute Class Statistics
Query Boundary
Compute Pixel Location
Compute Angles
Validate
Project